BEGIN:VCALENDAR
VERSION:2.0
PRODID:-//TravEcademy - ECPv6.15.20//NONSGML v1.0//EN
CALSCALE:GREGORIAN
METHOD:PUBLISH
X-ORIGINAL-URL:https://travecademy.nl
X-WR-CALDESC:Evenementen voor TravEcademy
REFRESH-INTERVAL;VALUE=DURATION:PT1H
X-Robots-Tag:noindex
X-PUBLISHED-TTL:PT1H
BEGIN:VTIMEZONE
TZID:Europe/Helsinki
BEGIN:DAYLIGHT
TZOFFSETFROM:+0200
TZOFFSETTO:+0300
TZNAME:EEST
DTSTART:20240331T010000
END:DAYLIGHT
BEGIN:STANDARD
TZOFFSETFROM:+0300
TZOFFSETTO:+0200
TZNAME:EET
DTSTART:20241027T010000
END:STANDARD
BEGIN:DAYLIGHT
TZOFFSETFROM:+0200
TZOFFSETTO:+0300
TZNAME:EEST
DTSTART:20250330T010000
END:DAYLIGHT
BEGIN:STANDARD
TZOFFSETFROM:+0300
TZOFFSETTO:+0200
TZNAME:EET
DTSTART:20251026T010000
END:STANDARD
BEGIN:DAYLIGHT
TZOFFSETFROM:+0200
TZOFFSETTO:+0300
TZNAME:EEST
DTSTART:20260329T010000
END:DAYLIGHT
BEGIN:STANDARD
TZOFFSETFROM:+0300
TZOFFSETTO:+0200
TZNAME:EET
DTSTART:20261025T010000
END:STANDARD
BEGIN:DAYLIGHT
TZOFFSETFROM:+0200
TZOFFSETTO:+0300
TZNAME:EEST
DTSTART:20270328T010000
END:DAYLIGHT
BEGIN:STANDARD
TZOFFSETFROM:+0300
TZOFFSETTO:+0200
TZNAME:EET
DTSTART:20271031T010000
END:STANDARD
END:VTIMEZONE
BEGIN:VEVENT
DTSTART;TZID=Europe/Helsinki:20260126T103000
DTEND;TZID=Europe/Helsinki:20260126T113000
DTSTAMP:20260420T103648
CREATED:20260119T150328Z
LAST-MODIFIED:20260119T150603Z
UID:10000092-1769423400-1769427000@travecademy.nl
SUMMARY:Abu Dhabi webinar
DESCRIPTION:Graag nodigen wij je uit voor de Abu Dhabi webinar op maandag 26 januari 2026.\nMeld je aan en maak kans op een plek op de famtrip naar Abu Dhabi van 23 – 27 februari 2026!\n \nTijdens deze webinar nemen we je mee naar het veelzijdige Abu Dhabi en laten we zien dat de bestemming ook tijdens de Ramadan volop te beleven is\, met dezelfde gastvrijheid en bijzondere ervaringen die je van Abu Dhabi mag verwachten. \n  \nLaat je inspireren door de cultuur\, luxe en diversiteit van Abu Dhabi en ontdek waarom deze bestemming het hele jaar door aantrekkelijk is voor reizigers. \nOnze webinar partners? \nEtihad Airways\, Qasr Al Watan en en nog nader te benoemen partner. \n\nDatum: Maandag 26 januari 2026\nTijd: 10:30 – 11:30 uur\nLocatie: Online via Teams\n\nMeld je aan en ontdek Abu Dhabi\, een bestemming die ook tijdens de Ramadan blijft verrassen en bij iedere reiziger een blijvende indruk achterlaat.
URL:https://travecademy.nl/evenementen/abu-dhabi-webinar/
ATTACH;FMTTYPE=image/png:https://travecademy.nl/wp-content/uploads/2026/01/600553706_1264328785719396_230492889896945596_n.png
END:VEVENT
BEGIN:VEVENT
DTSTART;TZID=Europe/Helsinki:20251127T100000
DTEND;TZID=Europe/Helsinki:20251127T113000
DTSTAMP:20260420T103648
CREATED:20251118T110632Z
LAST-MODIFIED:20251118T110822Z
UID:10000087-1764237600-1764243000@travecademy.nl
SUMMARY:Abu Dhabi Uncovered-webinar
DESCRIPTION:Mis het niet! Op donderdag 27 november 2025 nemen we je mee op een inspirerende reis door Abu Dhabi. Ontdek de nieuwste highlights\, prachtige hotels en verborgen parels die deze bestemming zo uniek maken. \nWat kan je verwachten:  \n\nDe nieuwste highlights en ontwikkelingen\nOntdek twee van de vele hotels in Abu Dhabi\nBijzondere plekken in de emiraat Abu Dhabi\n\nTijdens de webinar komen de volgende partners aan bod: Louvre Abu Dhabi\, teamLab Abu Dhabi\, Yas Plaza Hotels en Rixos Hotels. \nAan het einde van de webinar verloten we mooie prijzen onder de aanwezige deelnemers! \n\nDatum: Donderdag 27 november 2025\nTijd: 10:00 – 11:30 uur\nLocatie: Online via Teams\n\nMeld je hier aan
URL:https://travecademy.nl/evenementen/abu-dhabi-uncovered-webinar/
ATTACH;FMTTYPE=image/jpeg:https://travecademy.nl/wp-content/uploads/2025/11/abu-dhabi-dutch-1.jpg
END:VEVENT
END:VCALENDAR