BEGIN:VCALENDAR
VERSION:2.0
PRODID:-//TravEcademy - ECPv6.15.20//NONSGML v1.0//EN
CALSCALE:GREGORIAN
METHOD:PUBLISH
X-WR-CALNAME:TravEcademy
X-ORIGINAL-URL:https://travecademy.nl
X-WR-CALDESC:Evenementen voor TravEcademy
REFRESH-INTERVAL;VALUE=DURATION:PT1H
X-Robots-Tag:noindex
X-PUBLISHED-TTL:PT1H
BEGIN:VTIMEZONE
TZID:Europe/Helsinki
BEGIN:DAYLIGHT
TZOFFSETFROM:+0200
TZOFFSETTO:+0300
TZNAME:EEST
DTSTART:20240331T010000
END:DAYLIGHT
BEGIN:STANDARD
TZOFFSETFROM:+0300
TZOFFSETTO:+0200
TZNAME:EET
DTSTART:20241027T010000
END:STANDARD
BEGIN:DAYLIGHT
TZOFFSETFROM:+0200
TZOFFSETTO:+0300
TZNAME:EEST
DTSTART:20250330T010000
END:DAYLIGHT
BEGIN:STANDARD
TZOFFSETFROM:+0300
TZOFFSETTO:+0200
TZNAME:EET
DTSTART:20251026T010000
END:STANDARD
BEGIN:DAYLIGHT
TZOFFSETFROM:+0200
TZOFFSETTO:+0300
TZNAME:EEST
DTSTART:20260329T010000
END:DAYLIGHT
BEGIN:STANDARD
TZOFFSETFROM:+0300
TZOFFSETTO:+0200
TZNAME:EET
DTSTART:20261025T010000
END:STANDARD
END:VTIMEZONE
BEGIN:VEVENT
DTSTART;TZID=Europe/Helsinki:20251209T170000
DTEND;TZID=Europe/Helsinki:20251209T210000
DTSTAMP:20260420T094236
CREATED:20251106T103723Z
LAST-MODIFIED:20251106T103813Z
UID:10000084-1765299600-1765314000@travecademy.nl
SUMMARY:Meet & Eat met JetBlue\, New England & Boston
DESCRIPTION:Met de woorden You’re Invited nodigen JetBlue\, Discover New England en Meet Boston branchegenoten uit voor een sfeervolle avond in kerstsfeer. \n\n\nDe locatie is Bar Mauve in Laren (NH)\, de datum is dinsdag 9 december en de ontvangst is  om 17.00 uur. Iedereen die reizen verkoopt\, zoals reisagenten\, ZRA’s en medewerkers van touroperators\, is welkom. Aanmelden is noodzakelijk\, want het aantal plaatsen is beperkt. Zie de link onderaan. \nBezoekers worden meegenomen naar de historische straten van Boston en de adembenemende natuur van New England. Zij ontdekken de charme van deze bruisende stad en de betoverende regio eromheen. \nJetBlue\, Discover New England en Meet Boston garanderen een perfecte mix van beleving\, smaak en reisinspiratie\, met insider tips en praktische informatie.\nHet zijn dé ingrediënten om Boston en New England beter te leren kennen. Bezoekers worden getrakteerd op een proeverij vol smaken uit Boston en New England. Bovendien maken bezoekers ook nog kans op leuke prijzen. \n\nWaar: Bar Mauve (Laren NH)\nWanneer: dinsdag 9 december\nOntvangst: 17.00 uur\nPresentaties\, food & drinks: 17.30 uur\nPrijsuitreiking: 20.00 uur\n\nAanmelden: klik hier \nFoto: Boston (Unsplash).
URL:https://travecademy.nl/evenementen/meet-eat-met-jetblue-new-england-boston/
LOCATION:Bar Mauve\, Brink 1\, Laren\, 1251 KR
ATTACH;FMTTYPE=image/jpeg:https://travecademy.nl/wp-content/uploads/2025/11/Boston-Jacob-Licht-8nA_iHrxHIo-foto-Unsplash-2025-2.jpg
END:VEVENT
END:VCALENDAR