BEGIN:VCALENDAR
VERSION:2.0
PRODID:-//TravEcademy - ECPv6.15.20//NONSGML v1.0//EN
CALSCALE:GREGORIAN
METHOD:PUBLISH
X-ORIGINAL-URL:https://travecademy.nl
X-WR-CALDESC:Evenementen voor TravEcademy
REFRESH-INTERVAL;VALUE=DURATION:PT1H
X-Robots-Tag:noindex
X-PUBLISHED-TTL:PT1H
BEGIN:VTIMEZONE
TZID:Europe/Helsinki
BEGIN:DAYLIGHT
TZOFFSETFROM:+0200
TZOFFSETTO:+0300
TZNAME:EEST
DTSTART:20230326T010000
END:DAYLIGHT
BEGIN:STANDARD
TZOFFSETFROM:+0300
TZOFFSETTO:+0200
TZNAME:EET
DTSTART:20231029T010000
END:STANDARD
BEGIN:DAYLIGHT
TZOFFSETFROM:+0200
TZOFFSETTO:+0300
TZNAME:EEST
DTSTART:20240331T010000
END:DAYLIGHT
BEGIN:STANDARD
TZOFFSETFROM:+0300
TZOFFSETTO:+0200
TZNAME:EET
DTSTART:20241027T010000
END:STANDARD
BEGIN:DAYLIGHT
TZOFFSETFROM:+0200
TZOFFSETTO:+0300
TZNAME:EEST
DTSTART:20250330T010000
END:DAYLIGHT
BEGIN:STANDARD
TZOFFSETFROM:+0300
TZOFFSETTO:+0200
TZNAME:EET
DTSTART:20251026T010000
END:STANDARD
END:VTIMEZONE
BEGIN:VEVENT
DTSTART;TZID=Europe/Helsinki:20240828T173000
DTEND;TZID=Europe/Helsinki:20240829T220000
DTSTAMP:20260420T020806
CREATED:20240621T120234Z
LAST-MODIFIED:20240621T120234Z
UID:10000045-1724866200-1724968800@travecademy.nl
SUMMARY:Travelpro Dinner Workshops met Walt Disney Parks and Resorts
DESCRIPTION:Beleef ook dit jaar weer een magische avond vol inspiratie en culinaire verwennerij tijdens de Travelpro Dinner Workshops met Walt Disney Parks en Resorts. \n\n\n\n\nOp 28 augustus en 29 augustus nodigen we jou uit in het schilderachtige Kasteel Groeneveld in Baarn. Hier krijg je de unieke kans om te genieten van een heerlijk driegangendiner\, terwijl je geïnspireerd wordt door boeiende presentaties van Disneyland Paris\, Disney Cruise Line en Walt Disney World Resort in Florida. Laat je betoveren door de nieuwste ontwikkelingen van deze magische bestemmingen. \n\n\nTravelpro Dinner Workshops Disneyland® Paris en Disney Cruise Line – 28 en 29 augustus 2024\nMeld je aan via dit aanmeldformulier voor de Travelpro Dinner Workshops Disneyland® Paris en Disney Cruise Line op woensdag 28 augustus en donderdag 29 augustus in Grand Café Groeneveld in Baarn. De avond begint om 17.30 uur en duurt tot ongeveer 22.00 uur. Meld je hier aan en ontvang direct een bevestiging op je scherm. De officiële bevestigingsmail met alle details volgt spoedig.
URL:https://travecademy.nl/evenementen/travelpro-dinner-workshops-met-walt-disney-parks-and-resorts-2/
LOCATION:Grand Café Groeneveld\, Baarn
ATTACH;FMTTYPE=image/webp:https://travecademy.nl/wp-content/uploads/2024/06/Dinner-Workshop-1024x454.png.webp
END:VEVENT
END:VCALENDAR