BEGIN:VCALENDAR
VERSION:2.0
PRODID:-//TravEcademy - ECPv6.15.20//NONSGML v1.0//EN
CALSCALE:GREGORIAN
METHOD:PUBLISH
X-WR-CALNAME:TravEcademy
X-ORIGINAL-URL:https://travecademy.nl
X-WR-CALDESC:Evenementen voor TravEcademy
REFRESH-INTERVAL;VALUE=DURATION:PT1H
X-Robots-Tag:noindex
X-PUBLISHED-TTL:PT1H
BEGIN:VTIMEZONE
TZID:Europe/Helsinki
BEGIN:DAYLIGHT
TZOFFSETFROM:+0200
TZOFFSETTO:+0300
TZNAME:EEST
DTSTART:20230326T010000
END:DAYLIGHT
BEGIN:STANDARD
TZOFFSETFROM:+0300
TZOFFSETTO:+0200
TZNAME:EET
DTSTART:20231029T010000
END:STANDARD
BEGIN:DAYLIGHT
TZOFFSETFROM:+0200
TZOFFSETTO:+0300
TZNAME:EEST
DTSTART:20240331T010000
END:DAYLIGHT
BEGIN:STANDARD
TZOFFSETFROM:+0300
TZOFFSETTO:+0200
TZNAME:EET
DTSTART:20241027T010000
END:STANDARD
BEGIN:DAYLIGHT
TZOFFSETFROM:+0200
TZOFFSETTO:+0300
TZNAME:EEST
DTSTART:20250330T010000
END:DAYLIGHT
BEGIN:STANDARD
TZOFFSETFROM:+0300
TZOFFSETTO:+0200
TZNAME:EET
DTSTART:20251026T010000
END:STANDARD
END:VTIMEZONE
BEGIN:VEVENT
DTSTART;TZID=Europe/Helsinki:20240404T180000
DTEND;TZID=Europe/Helsinki:20240404T223000
DTSTAMP:20260419T195856
CREATED:20240321T102221Z
LAST-MODIFIED:20240321T102622Z
UID:10000042-1712253600-1712269800@travecademy.nl
SUMMARY:sLOVEnia Trade workshop
DESCRIPTION:Ontdek Slovenië!\nKom naar de 𝐬𝐋𝐎𝐕𝐄𝐧𝐢𝐚 Trade workshop in Amsterdam en laat je inspireren!\nNetwerk met partners zoals hotels en DMC’s uit Slovenië en maak kans op prijzen zoals hotelovernachtingen en een ticket naar Slovenië! \n𝗪𝐚𝐧𝐧𝐞𝐞𝐫: Donderdag 4 april 2024\n𝗪𝐚𝐚𝐫: Het Andaz Hotel in Amsterdam\n𝐓𝐢𝐣𝐝: 18.00 – 22.30 uur \nSchrijf je nu in via deze link.
URL:https://travecademy.nl/evenementen/%f0%9d%90%ac%f0%9d%90%8b%f0%9d%90%8e%f0%9d%90%95%f0%9d%90%84%f0%9d%90%a7%f0%9d%90%a2%f0%9d%90%9a-trade-workshop/
LOCATION:Het Andaz Hotel in Amsterdam
ATTACH;FMTTYPE=image/jpeg:https://travecademy.nl/wp-content/uploads/2024/03/soca_kajak_jost_gantar_8_1.jpg
END:VEVENT
END:VCALENDAR